BEGIN:VCALENDAR
VERSION:2.0
PRODID:-//LTEN - ECPv6.3.4//NONSGML v1.0//EN
CALSCALE:GREGORIAN
METHOD:PUBLISH
X-ORIGINAL-URL:https://ltenmedia.com
X-WR-CALDESC:Events for LTEN
REFRESH-INTERVAL;VALUE=DURATION:PT1H
X-Robots-Tag:noindex
X-PUBLISHED-TTL:PT1H
BEGIN:VTIMEZONE
TZID:Europe/Paris
BEGIN:DAYLIGHT
TZOFFSETFROM:+0100
TZOFFSETTO:+0200
TZNAME:CEST
DTSTART:20240331T010000
END:DAYLIGHT
BEGIN:STANDARD
TZOFFSETFROM:+0200
TZOFFSETTO:+0100
TZNAME:CET
DTSTART:20241027T010000
END:STANDARD
BEGIN:DAYLIGHT
TZOFFSETFROM:+0100
TZOFFSETTO:+0200
TZNAME:CEST
DTSTART:20250330T010000
END:DAYLIGHT
BEGIN:STANDARD
TZOFFSETFROM:+0200
TZOFFSETTO:+0100
TZNAME:CET
DTSTART:20251026T010000
END:STANDARD
BEGIN:DAYLIGHT
TZOFFSETFROM:+0100
TZOFFSETTO:+0200
TZNAME:CEST
DTSTART:20260329T010000
END:DAYLIGHT
BEGIN:STANDARD
TZOFFSETFROM:+0200
TZOFFSETTO:+0100
TZNAME:CET
DTSTART:20261025T010000
END:STANDARD
END:VTIMEZONE
BEGIN:VEVENT
DTSTART;VALUE=DATE:20241125
DTEND;VALUE=DATE:20241202
DTSTAMP:20260423T074739
CREATED:20241013T094207Z
LAST-MODIFIED:20241115T132336Z
UID:7535-1732492800-1733097599@ltenmedia.com
SUMMARY:LTEN CAMP MEETING 2024
DESCRIPTION:Camp Meetings are special meetings. \nIt’s a combination of many types of meetings – such as a Holy Ghost meeting\, teaching meeting\, Healing/Miracle meeting\, Prayer meeting and the likes. \nThe Word is taught with clarity and the Spirit of God is given room for expression and demonstration. \nBelievers are baptized under the Glory cloud. \nAlso shown how to practically flow with the Spirit for edification of others and Missions. \nNeeds of the people are met and attendees are full of Joy and rejoicing. \nThis is the summary of what we expect and always see during these meetings. \nDays of Heaven on Earth. Our lives and ministries will never be the same again. \nWe have the awesome privilege of ministering alongside Rev. Kolawole Williams Ogoigbe\, Rev. Onayinka Olusegun and Rev. Tokunbo Adejuwon for this Camp Meeting. \nAttendance is free\, but registration is compulsory. \nIt’s happening this November: \nMonday November 25th – Sunday December 1st. \nFor more information\, call 08168797332 \nTell a friend that LTEN CAMP MEETING is here. \nJesus is glorified!
URL:https://ltenmedia.com/event/lten-camp-meeting-2024/
LOCATION:LTEN\, Plot 27 & 28\, Precious Palm Royal Road\, Isihor\, Benin\, Edo\, 300283\, Nigeria
ATTACH;FMTTYPE=image/jpeg:https://ltenmedia.com/wp-content/uploads/2024/10/camp-flyer.jpg
END:VEVENT
BEGIN:VEVENT
DTSTART;VALUE=DATE:20260403
DTEND;VALUE=DATE:20260407
DTSTAMP:20260423T074739
CREATED:20260326T100452Z
LAST-MODIFIED:20260326T100452Z
UID:7984-1775174400-1775519999@ltenmedia.com
SUMMARY:GENERAL SCHOOL OF MINISTRY
DESCRIPTION:General School of Ministry (GSM) is here again with the theme:\n“MINISTRY GIFTS”. \nThe purpose of General School of Ministry is to train every believer that they can do the work of the Ministry. It’s to show all believers in Christ\, what they can do with God\, working in and through them unto the edification of others. \nPrepare yourself for a time of your life. \nThree days and nights of Illumination\, Revelation\, Utterance\, Glory and Fire. \nIt will be a mountain of Encounters with God and charismatic renewals. \nWe shall explore in depths the “gifts and giftings of God. Exploring the diversities of gifts we can minister with\, as God’s men on the Earth”. \nClick the link below and follow all the details there strictly. Registration is FREE but COMPULSORY. \nwww.generalschoolofministry.com \nDate: Saturday\, 4th to Monday\, 6th of April \nVenue: Plot 27 and 28th Precious Palm Royal Road\, Isihor\, Benin city\, Edo state\, Nigeria. \nTell a friend! \nJesus is glorified
URL:https://ltenmedia.com/event/general-school-of-ministry/
LOCATION:LTEN\, Plot 27 & 28\, Precious Palm Royal Road\, Isihor\, Benin\, Edo\, 300283\, Nigeria
ATTACH;FMTTYPE=image/jpeg:https://ltenmedia.com/wp-content/uploads/2026/03/Landscape.jpg-scaled.jpeg
END:VEVENT
END:VCALENDAR