BEGIN:VCALENDAR
VERSION:2.0
PRODID:-//LTEN - ECPv6.3.4//NONSGML v1.0//EN
CALSCALE:GREGORIAN
METHOD:PUBLISH
X-WR-CALNAME:LTEN
X-ORIGINAL-URL:https://ltenmedia.com
X-WR-CALDESC:Events for LTEN
REFRESH-INTERVAL;VALUE=DURATION:PT1H
X-Robots-Tag:noindex
X-PUBLISHED-TTL:PT1H
BEGIN:VTIMEZONE
TZID:Europe/Paris
BEGIN:DAYLIGHT
TZOFFSETFROM:+0100
TZOFFSETTO:+0200
TZNAME:CEST
DTSTART:20230326T010000
END:DAYLIGHT
BEGIN:STANDARD
TZOFFSETFROM:+0200
TZOFFSETTO:+0100
TZNAME:CET
DTSTART:20231029T010000
END:STANDARD
BEGIN:DAYLIGHT
TZOFFSETFROM:+0100
TZOFFSETTO:+0200
TZNAME:CEST
DTSTART:20240331T010000
END:DAYLIGHT
BEGIN:STANDARD
TZOFFSETFROM:+0200
TZOFFSETTO:+0100
TZNAME:CET
DTSTART:20241027T010000
END:STANDARD
END:VTIMEZONE
BEGIN:VEVENT
DTSTART;VALUE=DATE:20240329
DTEND;VALUE=DATE:20240402
DTSTAMP:20260423T135400
CREATED:20240211T093713Z
LAST-MODIFIED:20240304T194835Z
UID:7196-1711670400-1712015999@ltenmedia.com
SUMMARY:GENERAL SCHOOL OF MINISTRY 2024
DESCRIPTION:Light of Truth Equipping Network’s General School of Ministry\, April 2024 edition is here.\nThis is a meeting for every believer who desires to do the work of Ministry the right way and live the Christian life just the way Jesus did. \n\nIt’s called General School of Ministry\, because it is open to every believer in Christ and not only those who believe they are Apostles\, Prophets\, Evangelist\, Pastors and Teachers.\n\nThis year\, our focus for the meeting is “GOD’S MAN”.\nThis life-changing meeting would be holding from Friday\, 29th of March – Monday\, 1st of April\, 2024 in Benin City\, Nigeria.\nRegistration for this meeting is FREE but COMPULSORY.\n\nAccommodation or feeding is NOT included in the registration also.\n\nFor more enquiries\, CALL any of the following helplines: 08168797332\, 07036262050.
URL:https://ltenmedia.com/event/general-school-of-ministry-2024/
LOCATION:Edo
ATTACH;FMTTYPE=image/webp:https://ltenmedia.com/wp-content/uploads/2024/03/GSM-LANDSCAPE_122845-scaled.webp
END:VEVENT
BEGIN:VEVENT
DTSTART;TZID=Europe/Paris:20231231T080000
DTEND;TZID=Europe/Paris:20231231T120000
DTSTAMP:20260423T135400
CREATED:20231230T102719Z
LAST-MODIFIED:20231230T102938Z
UID:7153-1704009600-1704024000@ltenmedia.com
SUMMARY:END-OF-YEAR-SERVICE
DESCRIPTION:With hearts full of utter gratitude and awe for God’s goodness to us in 2023\, we gather to receive the rain of words and prophecies as we go into the new year 2024! \n\n\n \n\n\nCome ready to be instructed\, edified and imparted for the days ahead in 2024.\n\n\n \n\n\nWords will come!\n\n\nHands will be laid!\n\n\nThe power of God will be mightily present!\n\n\n \n\n\nIt is going to be a Combined Service of fire and we are set to receive all the instructions\, corrections and prophesies that the Lord has for us.\n\n\n \n\n\nDate: Sunday\, 31st of December\, 2023\n\n\nTime: 8am Prompt\n\n\nVenue: 15\, Ogbegie Street (Nova Road)\, opposite Uwasota Junction\, Ugbowo\, Benin-City.\n\n\n \n\n\nDon’t come alone.\n\n\nYou will surely be blessed!
URL:https://ltenmedia.com/event/end-of-year-service/
LOCATION:Edo
END:VEVENT
BEGIN:VEVENT
DTSTART;VALUE=DATE:20231121
DTEND;VALUE=DATE:20231126
DTSTAMP:20260423T135400
CREATED:20230917T093412Z
LAST-MODIFIED:20231114T134333Z
UID:6981-1700524800-1700956799@ltenmedia.com
SUMMARY:CAMP MEETING 2023
DESCRIPTION:Light of Truth Equipping Network’s Camp Meeting and General School of Ministry 2023 is here with the theme: “HEAVEN ON EARTH”. \nThis is a meeting where we camp around the Word and the Spirit together in an atmosphere of intense study\, worship\, consecration\, and the power of God. \nIt would be holding from Tuesday\, 21st – Saturday\, 25th of November\, 2023 in Benin City\, Nigeria. \nVenue: Indoor Sports Hall\, University of Benin\, Ugbowo\, Benin City. \nRegistration for Camp Meeting is FREE but camping in the provided accommodation costs N7000 for the entire 5 days.
URL:https://ltenmedia.com/event/camp-meeting/
LOCATION:Indoors Sports Hall\, Uniben\, University of Benin\, Ugbowo\, Benin City.\, Benin\, Nigeria
ATTACH;FMTTYPE=image/jpeg:https://ltenmedia.com/wp-content/uploads/2023/09/CAMP-MEETING-3_082617-scaled.jpg
END:VEVENT
BEGIN:VEVENT
DTSTART;TZID=Europe/Paris:20230915T150000
DTEND;TZID=Europe/Paris:20230916T180000
DTSTAMP:20260423T135400
CREATED:20230806T205239Z
LAST-MODIFIED:20230911T144926Z
UID:3926-1694790000-1694887200@ltenmedia.com
SUMMARY:UNIBEN Supernatural Awakening
DESCRIPTION:A revolutionary meeting\, a meeting of Word and the Supernatural. \nThis meeting would awaken every attendee into what God is doing on earth.
URL:https://ltenmedia.com/event/uniben-supernatural-awakening/
LOCATION:Indoors Sports Hall\, Uniben\, University of Benin\, Ugbowo\, Benin City.\, Benin\, Nigeria
ATTACH;FMTTYPE=image/jpeg:https://ltenmedia.com/wp-content/uploads/2023/08/UNIBEN-SA-SQUARE_100954-scaled.jpg
END:VEVENT
END:VCALENDAR